BEGIN:VCALENDAR
VERSION:2.0
PRODID:-//3.105.125.51//NONSGML kigkonsult.se iCalcreator 2.20//
CALSCALE:GREGORIAN
METHOD:PUBLISH
X-WR-CALNAME:Foresight Learning
X-WR-CALDESC:Specialist Facilitation of Leadership and Team Development Wor
 kshops
X-FROM-URL:http://foresightlearning.com.au
X-WR-TIMEZONE:Australia/Brisbane
BEGIN:VTIMEZONE
TZID:Australia/Brisbane
X-LIC-LOCATION:Australia/Brisbane
BEGIN:STANDARD
DTSTART:19920301T030000
TZOFFSETFROM:+1100
TZOFFSETTO:+1000
TZNAME:AEST
END:STANDARD
END:VTIMEZONE
BEGIN:VEVENT
UID:ai1ec-1336@foresightlearning.com.au
DTSTAMP:20210225T151758Z
CATEGORIES:
CONTACT:
DESCRIPTION:
DTSTART;VALUE=DATE:20200225
DTEND;VALUE=DATE:20200226
SEQUENCE:0
SUMMARY:Marcus Mission Program 1\, Day 2 Bundaberg
URL:http://foresightlearning.com.au/event/marcus-mission-program-1-day-2-bu
 ndaberg/
X-COST-TYPE:free
END:VEVENT
END:VCALENDAR
